BEGIN:VCALENDAR
VERSION:2.0
PRODID:-//StreamRadar//Match Calendar//EN
CALSCALE:GREGORIAN
METHOD:PUBLISH
X-WR-CALNAME:PuiU Helsinki vs PEPO
X-WR-TIMEZONE:America/New_York
BEGIN:VEVENT
UID:match-5616967@streamradar.soccer
SUMMARY:PuiU Helsinki vs PEPO
DTSTAMP:20260421T104210Z
DTSTART;TZID=America/New_York:20260516T100000
DTEND;TZID=America/New_York:20260516T120000
LOCATION:Puistolan liikuntapuisto
DESCRIPTION:Où regarder PuiU Helsinki vs PEPO en Finlande - Kakkonen. Diff
 usion en direct et programme TV.\nhttps://streamradar.soccer/fr/match/56169
 67/puiu-helsinki-vs-pepo/
URL;VALUE=URI:https://streamradar.soccer/fr/match/5616967/puiu-helsinki-vs-
 pepo/
STATUS:CONFIRMED
END:VEVENT
END:VCALENDAR
