BEGIN:VCALENDAR
VERSION:2.0
PRODID:-//StreamRadar//Match Calendar//EN
CALSCALE:GREGORIAN
METHOD:PUBLISH
X-WR-CALNAME:PEPO vs Atlantis
X-WR-TIMEZONE:America/New_York
BEGIN:VEVENT
UID:match-5616952@streamradar.soccer
SUMMARY:PEPO vs Atlantis
DTSTAMP:20260419T120051Z
DTSTART;TZID=America/New_York:20260425T100000
DTEND;TZID=America/New_York:20260425T120000
LOCATION:Kimpisen stadion
DESCRIPTION:Où regarder PEPO vs Atlantis en Finlande - Kakkonen. Diffusion
  en direct et programme TV.\nhttps://streamradar.soccer/fr/match/5616952/pe
 po-vs-atlantis/
URL;VALUE=URI:https://streamradar.soccer/fr/match/5616952/pepo-vs-atlantis/
STATUS:CONFIRMED
END:VEVENT
END:VCALENDAR
