BEGIN:VCALENDAR
VERSION:2.0
PRODID:-//StreamRadar//Match Calendar//EN
CALSCALE:GREGORIAN
METHOD:PUBLISH
X-WR-CALNAME:Adama Kenema vs Dire Dawa Kenema
X-WR-TIMEZONE:America/New_York
BEGIN:VEVENT
UID:match-5616900@streamradar.soccer
SUMMARY:Adama Kenema vs Dire Dawa Kenema
DTSTAMP:20260421T063038Z
DTSTART;TZID=America/New_York:20260429T110000
DTEND;TZID=America/New_York:20260429T130000
DESCRIPTION:Où regarder Adama Kenema vs Dire Dawa Kenema en Ethiopie - Pre
 mier League. Diffusion en direct et programme TV.\nhttps://streamradar.socc
 er/fr/match/5616900/adama-kenema-vs-dire-dawa-kenema/
URL;VALUE=URI:https://streamradar.soccer/fr/match/5616900/adama-kenema-vs-d
 ire-dawa-kenema/
STATUS:CONFIRMED
END:VEVENT
END:VCALENDAR
