BEGIN:VCALENDAR
VERSION:2.0
PRODID:-//StreamRadar//Match Calendar//EN
CALSCALE:GREGORIAN
METHOD:PUBLISH
X-WR-CALNAME:Gandzasar vs Van
X-WR-TIMEZONE:America/New_York
BEGIN:VEVENT
UID:match-5616873@streamradar.soccer
SUMMARY:Gandzasar vs Van
DTSTAMP:20260421T062155Z
DTSTART;TZID=America/New_York:20260502T110000
DTEND;TZID=America/New_York:20260502T130000
LOCATION:Stadion Gandzasar
DESCRIPTION:Où regarder Gandzasar vs Van en Armenian Premier League. Diffu
 sion en direct et programme TV.\nhttps://streamradar.soccer/fr/match/561687
 3/gandzasar-vs-van/
URL;VALUE=URI:https://streamradar.soccer/fr/match/5616873/gandzasar-vs-van/
STATUS:CONFIRMED
END:VEVENT
END:VCALENDAR
