BEGIN:VCALENDAR
VERSION:2.0
PRODID:-//StreamRadar//Match Calendar//EN
CALSCALE:GREGORIAN
METHOD:PUBLISH
X-WR-CALNAME:BKMA vs Alashkert
X-WR-TIMEZONE:America/New_York
BEGIN:VEVENT
UID:match-5616872@streamradar.soccer
SUMMARY:BKMA vs Alashkert
DTSTAMP:20260419T120609Z
DTSTART;TZID=America/New_York:20260502T080000
DTEND;TZID=America/New_York:20260502T100000
LOCATION:Football Academy Stadium
DESCRIPTION:Où regarder BKMA vs Alashkert en Armenian Premier League. Diff
 usion en direct et programme TV.\nhttps://streamradar.soccer/fr/match/56168
 72/bkma-vs-alashkert/
URL;VALUE=URI:https://streamradar.soccer/fr/match/5616872/bkma-vs-alashkert
 /
STATUS:CONFIRMED
END:VEVENT
END:VCALENDAR
