BEGIN:VCALENDAR
VERSION:2.0
PRODID:-//StreamRadar//Match Calendar//EN
CALSCALE:GREGORIAN
METHOD:PUBLISH
X-WR-CALNAME:Al Nasr vs Smail
X-WR-TIMEZONE:America/New_York
BEGIN:VEVENT
UID:match-5616863@streamradar.soccer
SUMMARY:Al Nasr vs Smail
DTSTAMP:20260421T120358Z
DTSTART;TZID=America/New_York:20260518T112000
DTEND;TZID=America/New_York:20260518T132000
DESCRIPTION:Où regarder Al Nasr vs Smail en Omani League. Diffusion en dir
 ect et programme TV.\nhttps://streamradar.soccer/fr/match/5616863/al-nasr-v
 s-smail/
URL;VALUE=URI:https://streamradar.soccer/fr/match/5616863/al-nasr-vs-smail/
STATUS:CONFIRMED
END:VEVENT
END:VCALENDAR
