BEGIN:VCALENDAR
VERSION:2.0
PRODID:-//StreamRadar//Match Calendar//EN
CALSCALE:GREGORIAN
METHOD:PUBLISH
X-WR-CALNAME:Libertad vs Olimpia
X-WR-TIMEZONE:America/New_York
BEGIN:VEVENT
UID:match-5616846@streamradar.soccer
SUMMARY:Libertad vs Olimpia
DTSTAMP:20260421T054853Z
DTSTART;TZID=America/New_York:20260425T190000
DTEND;TZID=America/New_York:20260425T210000
LOCATION:Estadio Tigo La Huerta
DESCRIPTION:Où regarder Libertad vs Olimpia en Paraguay - Primera Divisió
 n. Diffusion en direct et programme TV.\nhttps://streamradar.soccer/fr/matc
 h/5616846/libertad-vs-olimpia/
URL;VALUE=URI:https://streamradar.soccer/fr/match/5616846/libertad-vs-olimp
 ia/
STATUS:CONFIRMED
END:VEVENT
END:VCALENDAR
