BEGIN:VCALENDAR
VERSION:2.0
PRODID:-//StreamRadar//Match Calendar//EN
CALSCALE:GREGORIAN
METHOD:PUBLISH
X-WR-CALNAME:Spartak Varna vs Dobrudzha 1919
X-WR-TIMEZONE:America/New_York
BEGIN:VEVENT
UID:match-5616826@streamradar.soccer
SUMMARY:Spartak Varna vs Dobrudzha 1919
DTSTAMP:20260421T063553Z
DTSTART;TZID=America/New_York:20260506T130000
DTEND;TZID=America/New_York:20260506T150000
LOCATION:Stadion Spartak
DESCRIPTION:Où regarder Spartak Varna vs Dobrudzha 1919 en Bulgarie - Parv
 a Liga. Diffusion en direct et programme TV.\nhttps://streamradar.soccer/fr
 /match/5616826/spartak-varna-vs-dobrudzha-1919/
URL;VALUE=URI:https://streamradar.soccer/fr/match/5616826/spartak-varna-vs-
 dobrudzha-1919/
STATUS:CONFIRMED
END:VEVENT
END:VCALENDAR
