BEGIN:VCALENDAR
VERSION:2.0
PRODID:-//StreamRadar//Match Calendar//EN
CALSCALE:GREGORIAN
METHOD:PUBLISH
X-WR-CALNAME:Saham vs Oman FC
X-WR-TIMEZONE:America/New_York
BEGIN:VEVENT
UID:match-5616190@streamradar.soccer
SUMMARY:Saham vs Oman FC
DTSTAMP:20260421T101441Z
DTSTART;TZID=America/New_York:20260513T100500
DTEND;TZID=America/New_York:20260513T120500
DESCRIPTION:Où regarder Saham vs Oman FC en Omani League. Diffusion en dir
 ect et programme TV.\nhttps://streamradar.soccer/fr/match/5616190/saham-vs-
 oman-fc/
URL;VALUE=URI:https://streamradar.soccer/fr/match/5616190/saham-vs-oman-fc/
STATUS:CONFIRMED
END:VEVENT
END:VCALENDAR
