BEGIN:VCALENDAR
VERSION:2.0
PRODID:-//StreamRadar//Match Calendar//EN
CALSCALE:GREGORIAN
METHOD:PUBLISH
X-WR-CALNAME:Ibri vs Sur
X-WR-TIMEZONE:America/New_York
BEGIN:VEVENT
UID:match-5616183@streamradar.soccer
SUMMARY:Ibri vs Sur
DTSTAMP:20260421T075809Z
DTSTART;TZID=America/New_York:20260503T095500
DTEND;TZID=America/New_York:20260503T115500
DESCRIPTION:Où regarder Ibri vs Sur en Omani League. Diffusion en direct e
 t programme TV.\nhttps://streamradar.soccer/fr/match/5616183/ibri-vs-sur/
URL;VALUE=URI:https://streamradar.soccer/fr/match/5616183/ibri-vs-sur/
STATUS:CONFIRMED
END:VEVENT
END:VCALENDAR
