BEGIN:VCALENDAR
VERSION:2.0
PRODID:-//StreamRadar//Match Calendar//EN
CALSCALE:GREGORIAN
METHOD:PUBLISH
X-WR-CALNAME:Sofapaka vs KCB
X-WR-TIMEZONE:America/New_York
BEGIN:VEVENT
UID:match-5616168@streamradar.soccer
SUMMARY:Sofapaka vs KCB
DTSTAMP:20260421T040614Z
DTSTART;TZID=America/New_York:20260517T080000
DTEND;TZID=America/New_York:20260517T100000
DESCRIPTION:Où regarder Sofapaka vs KCB en Kenyan Premier League. Diffusio
 n en direct et programme TV.\nhttps://streamradar.soccer/fr/match/5616168/s
 ofapaka-vs-kcb/
URL;VALUE=URI:https://streamradar.soccer/fr/match/5616168/sofapaka-vs-kcb/
STATUS:CONFIRMED
END:VEVENT
END:VCALENDAR
