BEGIN:VCALENDAR
VERSION:2.0
PRODID:-//StreamRadar//Match Calendar//EN
CALSCALE:GREGORIAN
METHOD:PUBLISH
X-WR-CALNAME:Ryazan vs Kvant
X-WR-TIMEZONE:America/New_York
BEGIN:VEVENT
UID:match-5615531@streamradar.soccer
SUMMARY:Ryazan vs Kvant
DTSTAMP:20260421T091750Z
DTSTART;TZID=America/New_York:20260516T090000
DTEND;TZID=America/New_York:20260516T110000
DESCRIPTION:Où regarder Ryazan vs Kvant en Russie - FNL 2. Diffusion en di
 rect et programme TV.\nhttps://streamradar.soccer/fr/match/5615531/ryazan-v
 s-kvant/
URL;VALUE=URI:https://streamradar.soccer/fr/match/5615531/ryazan-vs-kvant/
STATUS:CONFIRMED
END:VEVENT
END:VCALENDAR
