BEGIN:VCALENDAR
VERSION:2.0
PRODID:-//StreamRadar//Match Calendar//EN
CALSCALE:GREGORIAN
METHOD:PUBLISH
X-WR-CALNAME:Crystal Palace U18 vs Arsenal U18
X-WR-TIMEZONE:America/New_York
BEGIN:VEVENT
UID:match-5615345@streamradar.soccer
SUMMARY:Crystal Palace U18 vs Arsenal U18
DTSTAMP:20260421T104527Z
DTSTART;TZID=America/New_York:20260516T060000
DTEND;TZID=America/New_York:20260516T080000
DESCRIPTION:Où regarder Crystal Palace U-18 vs Arsenal U-18 en Angleterre 
 - U18 Premier League. Diffusion en direct et programme TV.\nhttps://streamr
 adar.soccer/fr/match/5615345/crystal-palace-u18-vs-arsenal-u18/
URL;VALUE=URI:https://streamradar.soccer/fr/match/5615345/crystal-palace-u1
 8-vs-arsenal-u18/
STATUS:CONFIRMED
END:VEVENT
END:VCALENDAR
