BEGIN:VCALENDAR
VERSION:2.0
PRODID:-//StreamRadar//Match Calendar//EN
CALSCALE:GREGORIAN
METHOD:PUBLISH
X-WR-CALNAME:Spartak Subotica vs IMT Novi Beograd
X-WR-TIMEZONE:America/New_York
BEGIN:VEVENT
UID:match-5615331@streamradar.soccer
SUMMARY:Spartak Subotica vs IMT Novi Beograd
DTSTAMP:20260421T093131Z
DTSTART;TZID=America/New_York:20260516T130000
DTEND;TZID=America/New_York:20260516T150000
LOCATION:Gradski stadion
DESCRIPTION:Où regarder Spartak Subotica vs IMT Novi Beograd en Serbie - S
 uper Liga. Diffusion en direct et programme TV.\nhttps://streamradar.soccer
 /fr/match/5615331/spartak-subotica-vs-imt-novi-beograd/
URL;VALUE=URI:https://streamradar.soccer/fr/match/5615331/spartak-subotica-
 vs-imt-novi-beograd/
STATUS:CONFIRMED
END:VEVENT
END:VCALENDAR
