BEGIN:VCALENDAR
VERSION:2.0
PRODID:-//StreamRadar//Match Calendar//EN
CALSCALE:GREGORIAN
METHOD:PUBLISH
X-WR-CALNAME:Colombe vs Cotonsport
X-WR-TIMEZONE:America/New_York
BEGIN:VEVENT
UID:match-5614677@streamradar.soccer
SUMMARY:Colombe vs Cotonsport
DTSTAMP:20260421T091937Z
DTSTART;TZID=America/New_York:20260419T110000
DTEND;TZID=America/New_York:20260419T130000
LOCATION:Stade Ahmadou Ahidjo
DESCRIPTION:Où regarder Colombe vs Cotonsport en Cameroun - Elite ONE. Dif
 fusion en direct et programme TV.\nhttps://streamradar.soccer/fr/match/5614
 677/colombe-vs-cotonsport/
URL;VALUE=URI:https://streamradar.soccer/fr/match/5614677/colombe-vs-cotons
 port/
STATUS:CONFIRMED
END:VEVENT
END:VCALENDAR
