BEGIN:VCALENDAR
VERSION:2.0
PRODID:-//StreamRadar//Match Calendar//EN
CALSCALE:GREGORIAN
METHOD:PUBLISH
X-WR-CALNAME:Gonsenheim vs Pirmasens
X-WR-TIMEZONE:America/New_York
BEGIN:VEVENT
UID:match-5614661@streamradar.soccer
SUMMARY:Gonsenheim vs Pirmasens
DTSTAMP:20260421T084246Z
DTSTART;TZID=America/New_York:20260507T133000
DTEND;TZID=America/New_York:20260507T153000
DESCRIPTION:Où regarder Gonsenheim vs Pirmasens en Allemagne - Oberliga. D
 iffusion en direct et programme TV.\nhttps://streamradar.soccer/fr/match/56
 14661/gonsenheim-vs-pirmasens/
URL;VALUE=URI:https://streamradar.soccer/fr/match/5614661/gonsenheim-vs-pir
 masens/
STATUS:CONFIRMED
END:VEVENT
END:VCALENDAR
