BEGIN:VCALENDAR
VERSION:2.0
PRODID:-//StreamRadar//Match Calendar//EN
CALSCALE:GREGORIAN
METHOD:PUBLISH
X-WR-CALNAME:Mtibwa Sugar vs KMC
X-WR-TIMEZONE:America/New_York
BEGIN:VEVENT
UID:match-5614652@streamradar.soccer
SUMMARY:Mtibwa Sugar vs KMC
DTSTAMP:20260421T085419Z
DTSTART;TZID=America/New_York:20260514T070000
DTEND;TZID=America/New_York:20260514T090000
DESCRIPTION:Où regarder Mtibwa Sugar vs KMC en Tanzania Premier League. Di
 ffusion en direct et programme TV.\nhttps://streamradar.soccer/fr/match/561
 4652/mtibwa-sugar-vs-kmc/
URL;VALUE=URI:https://streamradar.soccer/fr/match/5614652/mtibwa-sugar-vs-k
 mc/
STATUS:CONFIRMED
END:VEVENT
END:VCALENDAR
