BEGIN:VCALENDAR
VERSION:2.0
PRODID:-//StreamRadar//Match Calendar//EN
CALSCALE:GREGORIAN
METHOD:PUBLISH
X-WR-CALNAME:Odder vs Sundby
X-WR-TIMEZONE:America/New_York
BEGIN:VEVENT
UID:match-5613190@streamradar.soccer
SUMMARY:Odder vs Sundby
DTSTAMP:20260421T101944Z
DTSTART;TZID=America/New_York:20260418T070000
DTEND;TZID=America/New_York:20260418T090000
LOCATION:Spektrum Odder (Odder)
DESCRIPTION:Où regarder Odder vs Sundby en Danemark - 3e division danoise.
  Diffusion en direct et programme TV.\nhttps://streamradar.soccer/fr/match/
 5613190/odder-vs-sundby/
URL;VALUE=URI:https://streamradar.soccer/fr/match/5613190/odder-vs-sundby/
STATUS:CONFIRMED
END:VEVENT
END:VCALENDAR
