BEGIN:VCALENDAR
VERSION:2.0
PRODID:-//StreamRadar//Match Calendar//EN
CALSCALE:GREGORIAN
METHOD:PUBLISH
X-WR-CALNAME:Treasure Beach vs Chapelton
X-WR-TIMEZONE:America/New_York
BEGIN:VEVENT
UID:match-5612268@streamradar.soccer
SUMMARY:Treasure Beach vs Chapelton
DTSTAMP:20260421T121301Z
DTSTART;TZID=America/New_York:20260415T163000
DTEND;TZID=America/New_York:20260415T183000
LOCATION:Treasure Beach Sports Complex (Treasure Beach)
DESCRIPTION:Où regarder Treasure Beach vs Chapelton en National Premier Le
 ague. Diffusion en direct et programme TV.\nhttps://streamradar.soccer/fr/m
 atch/5612268/treasure-beach-vs-chapelton/
URL;VALUE=URI:https://streamradar.soccer/fr/match/5612268/treasure-beach-vs
 -chapelton/
STATUS:CONFIRMED
END:VEVENT
END:VCALENDAR
