BEGIN:VCALENDAR
VERSION:2.0
PRODID:-//StreamRadar//Match Calendar//EN
CALSCALE:GREGORIAN
METHOD:PUBLISH
X-WR-CALNAME:Chelsea FC vs Manchester City
X-WR-TIMEZONE:America/New_York
BEGIN:VEVENT
UID:match-5611510@streamradar.soccer
SUMMARY:Chelsea FC vs Manchester City
DTSTAMP:20260420T235407Z
DTSTART;TZID=America/New_York:20260510T103000
DTEND;TZID=America/New_York:20260510T123000
LOCATION:Kingsmeadow
DESCRIPTION:Où regarder Chelsea FC vs Manchester City en Angleterre - FA W
 omen's Cup. Diffusion en direct et programme TV.\nhttps://streamradar.socce
 r/fr/match/5611510/chelsea-fc-vs-manchester-city/
URL;VALUE=URI:https://streamradar.soccer/fr/match/5611510/chelsea-fc-vs-man
 chester-city/
STATUS:CONFIRMED
END:VEVENT
END:VCALENDAR
