BEGIN:VCALENDAR
VERSION:2.0
PRODID:-//StreamRadar//Match Calendar//EN
CALSCALE:GREGORIAN
METHOD:PUBLISH
X-WR-CALNAME:Manchester United U18 vs Liverpool U18
X-WR-TIMEZONE:America/New_York
BEGIN:VEVENT
UID:match-5611433@streamradar.soccer
SUMMARY:Manchester United U18 vs Liverpool U18
DTSTAMP:20260421T063134Z
DTSTART;TZID=America/New_York:20260429T073000
DTEND;TZID=America/New_York:20260429T093000
DESCRIPTION:Où regarder Manchester United U-18 vs Liverpool U-18 en Anglet
 erre - U18 Premier League. Diffusion en direct et programme TV.\nhttps://st
 reamradar.soccer/fr/match/5611433/manchester-united-u18-vs-liverpool-u18/
URL;VALUE=URI:https://streamradar.soccer/fr/match/5611433/manchester-united
 -u18-vs-liverpool-u18/
STATUS:CONFIRMED
END:VEVENT
END:VCALENDAR
