BEGIN:VCALENDAR
VERSION:2.0
PRODID:-//StreamRadar//Match Calendar//EN
CALSCALE:GREGORIAN
METHOD:PUBLISH
X-WR-CALNAME:FC Pucioasa vs Vointa Crevedia
X-WR-TIMEZONE:America/New_York
BEGIN:VEVENT
UID:match-5610831@streamradar.soccer
SUMMARY:FC Pucioasa vs Vointa Crevedia
DTSTAMP:20260421T080557Z
DTSTART;TZID=America/New_York:20260509T110000
DTEND;TZID=America/New_York:20260509T130000
DESCRIPTION:Où regarder FC Pucioasa vs Vointa Crevedia en Roumanie - Liga 
 III. Diffusion en direct et programme TV.\nhttps://streamradar.soccer/fr/ma
 tch/5610831/fc-pucioasa-vs-vointa-crevedia/
URL;VALUE=URI:https://streamradar.soccer/fr/match/5610831/fc-pucioasa-vs-vo
 inta-crevedia/
STATUS:CONFIRMED
END:VEVENT
END:VCALENDAR
