BEGIN:VCALENDAR
VERSION:2.0
PRODID:-//StreamRadar//Match Calendar//EN
CALSCALE:GREGORIAN
METHOD:PUBLISH
X-WR-CALNAME:Unirea Braniştea vs Dacia Unirea Brăila
X-WR-TIMEZONE:America/New_York
BEGIN:VEVENT
UID:match-5610826@streamradar.soccer
SUMMARY:Unirea Braniştea vs Dacia Unirea Brăila
DTSTAMP:20260421T092528Z
DTSTART;TZID=America/New_York:20260509T110000
DTEND;TZID=America/New_York:20260509T130000
DESCRIPTION:Où regarder Unirea Braniştea vs Dacia Unirea Brăila en Rouma
 nie - Liga III. Diffusion en direct et programme TV.\nhttps://streamradar.s
 occer/fr/match/5610826/unirea-brani-tea-vs-dacia-unirea-br-ila/
URL;VALUE=URI:https://streamradar.soccer/fr/match/5610826/unirea-brani-tea-
 vs-dacia-unirea-br-ila/
STATUS:CONFIRMED
END:VEVENT
END:VCALENDAR
