BEGIN:VCALENDAR
VERSION:2.0
PRODID:-//StreamRadar//Match Calendar//EN
CALSCALE:GREGORIAN
METHOD:PUBLISH
X-WR-CALNAME:Guaporé vs Galvez
X-WR-TIMEZONE:America/New_York
BEGIN:VEVENT
UID:match-5610710@streamradar.soccer
SUMMARY:Guaporé vs Galvez
DTSTAMP:20260421T062338Z
DTSTART;TZID=America/New_York:20260509T160000
DTEND;TZID=America/New_York:20260509T180000
DESCRIPTION:Où regarder Guaporé vs Galvez en Brésil - Serie D. Diffusion
  en direct et programme TV.\nhttps://streamradar.soccer/fr/match/5610710/gu
 apore-vs-galvez/
URL;VALUE=URI:https://streamradar.soccer/fr/match/5610710/guapore-vs-galvez
 /
STATUS:CONFIRMED
END:VEVENT
END:VCALENDAR
