BEGIN:VCALENDAR
VERSION:2.0
PRODID:-//StreamRadar//Match Calendar//EN
CALSCALE:GREGORIAN
METHOD:PUBLISH
X-WR-CALNAME:Afrique Football Élite vs Karfamoriah
X-WR-TIMEZONE:America/New_York
BEGIN:VEVENT
UID:match-5609038@streamradar.soccer
SUMMARY:Afrique Football Élite vs Karfamoriah
DTSTAMP:20260421T204140Z
DTSTART;TZID=America/New_York:20260408T120000
DTEND;TZID=America/New_York:20260408T140000
DESCRIPTION:Où regarder Afrique Football Élite vs Karfamoriah en Guinée 
 - Ligue 1. Diffusion en direct et programme TV.\nhttps://streamradar.soccer
 /fr/match/5609038/afrique-football-elite-vs-karfamoriah/
URL;VALUE=URI:https://streamradar.soccer/fr/match/5609038/afrique-football-
 elite-vs-karfamoriah/
STATUS:CONFIRMED
END:VEVENT
END:VCALENDAR
