BEGIN:VCALENDAR
VERSION:2.0
PRODID:-//StreamRadar//Match Calendar//EN
CALSCALE:GREGORIAN
METHOD:PUBLISH
X-WR-CALNAME:Unirea Dej vs Crişul Sântandrei
X-WR-TIMEZONE:America/New_York
BEGIN:VEVENT
UID:match-5608447@streamradar.soccer
SUMMARY:Unirea Dej vs Crişul Sântandrei
DTSTAMP:20260421T104452Z
DTSTART;TZID=America/New_York:20260501T110000
DTEND;TZID=America/New_York:20260501T130000
DESCRIPTION:Où regarder Unirea Dej vs Crişul Sântandrei en Roumanie - Li
 ga III. Diffusion en direct et programme TV.\nhttps://streamradar.soccer/fr
 /match/5608447/unirea-dej-vs-cri-ul-santandrei/
URL;VALUE=URI:https://streamradar.soccer/fr/match/5608447/unirea-dej-vs-cri
 -ul-santandrei/
STATUS:CONFIRMED
END:VEVENT
END:VCALENDAR
