BEGIN:VCALENDAR
VERSION:2.0
PRODID:-//StreamRadar//Match Calendar//EN
CALSCALE:GREGORIAN
METHOD:PUBLISH
X-WR-CALNAME:Kids Tampa Brasov vs Vointa Crevedia
X-WR-TIMEZONE:America/New_York
BEGIN:VEVENT
UID:match-5608430@streamradar.soccer
SUMMARY:Kids Tampa Brasov vs Vointa Crevedia
DTSTAMP:20260421T100010Z
DTSTART;TZID=America/New_York:20260501T110000
DTEND;TZID=America/New_York:20260501T130000
DESCRIPTION:Où regarder Kids Tampa Brasov vs Vointa Crevedia en Roumanie -
  Liga III. Diffusion en direct et programme TV.\nhttps://streamradar.soccer
 /fr/match/5608430/kids-tampa-brasov-vs-vointa-crevedia/
URL;VALUE=URI:https://streamradar.soccer/fr/match/5608430/kids-tampa-brasov
 -vs-vointa-crevedia/
STATUS:CONFIRMED
END:VEVENT
END:VCALENDAR
