BEGIN:VCALENDAR
VERSION:2.0
PRODID:-//StreamRadar//Match Calendar//EN
CALSCALE:GREGORIAN
METHOD:PUBLISH
X-WR-CALNAME:Ferroviária vs Anápolis
X-WR-TIMEZONE:America/New_York
BEGIN:VEVENT
UID:match-5607432@streamradar.soccer
SUMMARY:Ferroviária vs Anápolis
DTSTAMP:20260421T080015Z
DTSTART;TZID=America/New_York:20260503T160000
DTEND;TZID=America/New_York:20260503T180000
LOCATION:Arena Fonte Luminosa
DESCRIPTION:Où regarder Ferroviária vs Anápolis en Brésil - Serie C. Di
 ffusion en direct et programme TV.\nhttps://streamradar.soccer/fr/match/560
 7432/ferroviaria-vs-anapolis/
URL;VALUE=URI:https://streamradar.soccer/fr/match/5607432/ferroviaria-vs-an
 apolis/
STATUS:CONFIRMED
END:VEVENT
END:VCALENDAR
