BEGIN:VCALENDAR
VERSION:2.0
PRODID:-//StreamRadar//Match Calendar//EN
CALSCALE:GREGORIAN
METHOD:PUBLISH
X-WR-CALNAME:L'Escala vs San Cristóbal
X-WR-TIMEZONE:America/New_York
BEGIN:VEVENT
UID:match-5607394@streamradar.soccer
SUMMARY:L'Escala vs San Cristóbal
DTSTAMP:20260421T101936Z
DTSTART;TZID=America/New_York:20260416T143000
DTEND;TZID=America/New_York:20260416T163000
LOCATION:Estadi Municipal (L'Escala)
DESCRIPTION:Où regarder L'Escala vs San Cristóbal en Espagne - Tercera Fe
 deración. Diffusion en direct et programme TV.\nhttps://streamradar.soccer
 /fr/match/5607394/lescala-vs-san-cristobal/
URL;VALUE=URI:https://streamradar.soccer/fr/match/5607394/lescala-vs-san-cr
 istobal/
STATUS:CONFIRMED
END:VEVENT
END:VCALENDAR
