BEGIN:VCALENDAR
VERSION:2.0
PRODID:-//StreamRadar//Match Calendar//EN
CALSCALE:GREGORIAN
METHOD:PUBLISH
X-WR-CALNAME:Rosenborg Kvinner vs Molde
X-WR-TIMEZONE:America/New_York
BEGIN:VEVENT
UID:match-5604386@streamradar.soccer
SUMMARY:Rosenborg Kvinner vs Molde
DTSTAMP:20260423T170821Z
DTSTART;TZID=America/New_York:20260429T120000
DTEND;TZID=America/New_York:20260429T140000
LOCATION:Koteng Arena
DESCRIPTION:Où regarder Rosenborg Kvinner vs Molde en Norvège - Toppserie
 n. Diffusion en direct et programme TV.\nhttps://streamradar.soccer/fr/matc
 h/5604386/rosenborg-kvinner-vs-molde/
URL;VALUE=URI:https://streamradar.soccer/fr/match/5604386/rosenborg-kvinner
 -vs-molde/
STATUS:CONFIRMED
END:VEVENT
END:VCALENDAR
