BEGIN:VCALENDAR
VERSION:2.0
PRODID:-//StreamRadar//Match Calendar//EN
CALSCALE:GREGORIAN
METHOD:PUBLISH
X-WR-CALNAME:Ordabasy vs Astana
X-WR-TIMEZONE:America/New_York
BEGIN:VEVENT
UID:match-5582332@streamradar.soccer
SUMMARY:Ordabasy vs Astana
DTSTAMP:20260421T181200Z
DTSTART;TZID=America/New_York:20260912T090000
DTEND;TZID=America/New_York:20260912T110000
LOCATION:Stadion Kazhymukan Munaitpasov
DESCRIPTION:Où regarder Ordabasy vs Astana en Premyer-Liga du Kazakhstan. 
 Diffusion en direct et programme TV.\nhttps://streamradar.soccer/fr/match/5
 582332/ordabasy-vs-astana/
URL;VALUE=URI:https://streamradar.soccer/fr/match/5582332/ordabasy-vs-astan
 a/
STATUS:CONFIRMED
END:VEVENT
END:VCALENDAR
