BEGIN:VCALENDAR
VERSION:2.0
PRODID:-//StreamRadar//Match Calendar//EN
CALSCALE:GREGORIAN
METHOD:PUBLISH
X-WR-CALNAME:Tallinna Kalev II vs Trans II
X-WR-TIMEZONE:America/New_York
BEGIN:VEVENT
UID:match-5567596@streamradar.soccer
SUMMARY:Tallinna Kalev II vs Trans II
DTSTAMP:20260422T172608Z
DTSTART;TZID=America/New_York:20260919T120000
DTEND;TZID=America/New_York:20260919T140000
DESCRIPTION:Où regarder Tallinna Kalev II vs Trans II en Estonie - Esiliig
 a B. Diffusion en direct et programme TV.\nhttps://streamradar.soccer/fr/ma
 tch/5567596/tallinna-kalev-ii-vs-trans-ii/
URL;VALUE=URI:https://streamradar.soccer/fr/match/5567596/tallinna-kalev-ii
 -vs-trans-ii/
STATUS:CONFIRMED
END:VEVENT
END:VCALENDAR
