BEGIN:VCALENDAR
VERSION:2.0
PRODID:-//StreamRadar//Match Calendar//EN
CALSCALE:GREGORIAN
METHOD:PUBLISH
X-WR-CALNAME:Parnu JK VaprUS U21 vs Johvi Phoenix
X-WR-TIMEZONE:America/New_York
BEGIN:VEVENT
UID:match-5567586@streamradar.soccer
SUMMARY:Parnu JK VaprUS U21 vs Johvi Phoenix
DTSTAMP:20260421T104532Z
DTSTART;TZID=America/New_York:20260910T110000
DTEND;TZID=America/New_York:20260910T130000
DESCRIPTION:Où regarder Parnu JK VaprUS U-21 vs Johvi Phoenix en Estonie -
  Esiliiga B. Diffusion en direct et programme TV.\nhttps://streamradar.socc
 er/fr/match/5567586/parnu-jk-vaprus-u21-vs-johvi-phoenix/
URL;VALUE=URI:https://streamradar.soccer/fr/match/5567586/parnu-jk-vaprus-u
 21-vs-johvi-phoenix/
STATUS:CONFIRMED
END:VEVENT
END:VCALENDAR
