BEGIN:VCALENDAR
VERSION:2.0
PRODID:-//StreamRadar//Match Calendar//EN
CALSCALE:GREGORIAN
METHOD:PUBLISH
X-WR-CALNAME:Tartu Welco vs Nõmme Kalju II
X-WR-TIMEZONE:America/New_York
BEGIN:VEVENT
UID:match-5567426@streamradar.soccer
SUMMARY:Tartu Welco vs Nõmme Kalju II
DTSTAMP:20260423T170917Z
DTSTART;TZID=America/New_York:20260914T120000
DTEND;TZID=America/New_York:20260914T140000
LOCATION:Holm Jalgpallipark
DESCRIPTION:Où regarder Tartu Welco vs Nõmme Kalju II en Estonie - Esilii
 ga A. Diffusion en direct et programme TV.\nhttps://streamradar.soccer/fr/m
 atch/5567426/tartu-welco-vs-nomme-kalju-ii/
URL;VALUE=URI:https://streamradar.soccer/fr/match/5567426/tartu-welco-vs-no
 mme-kalju-ii/
STATUS:CONFIRMED
END:VEVENT
END:VCALENDAR
