BEGIN:VCALENDAR
VERSION:2.0
PRODID:-//StreamRadar//Match Calendar//EN
CALSCALE:GREGORIAN
METHOD:PUBLISH
X-WR-CALNAME:Åstorp vs Jonsered
X-WR-TIMEZONE:America/New_York
BEGIN:VEVENT
UID:match-5567085@streamradar.soccer
SUMMARY:Åstorp vs Jonsered
DTSTAMP:20260424T150220Z
DTSTART;TZID=America/New_York:20260920T070000
DTEND;TZID=America/New_York:20260920T090000
DESCRIPTION:Où regarder Åstorp vs Jonsered en Suède - Superettan. Diffus
 ion en direct et programme TV.\nhttps://streamradar.soccer/fr/match/5567085
 /astorp-vs-jonsered/
URL;VALUE=URI:https://streamradar.soccer/fr/match/5567085/astorp-vs-jonsere
 d/
STATUS:CONFIRMED
END:VEVENT
END:VCALENDAR
