BEGIN:VCALENDAR
VERSION:2.0
PRODID:-//StreamRadar//Match Calendar//EN
CALSCALE:GREGORIAN
METHOD:PUBLISH
X-WR-CALNAME:Åstorp vs Qviding FIF
X-WR-TIMEZONE:America/New_York
BEGIN:VEVENT
UID:match-5567079@streamradar.soccer
SUMMARY:Åstorp vs Qviding FIF
DTSTAMP:20260422T193753Z
DTSTART;TZID=America/New_York:20260913T070000
DTEND;TZID=America/New_York:20260913T090000
DESCRIPTION:Où regarder Åstorp vs Qviding FIF en Suède - Superettan. Dif
 fusion en direct et programme TV.\nhttps://streamradar.soccer/fr/match/5567
 079/astorp-vs-qviding-fif/
URL;VALUE=URI:https://streamradar.soccer/fr/match/5567079/astorp-vs-qviding
 -fif/
STATUS:CONFIRMED
END:VEVENT
END:VCALENDAR
