BEGIN:VCALENDAR
VERSION:2.0
PRODID:-//StreamRadar//Match Calendar//EN
CALSCALE:GREGORIAN
METHOD:PUBLISH
X-WR-CALNAME:Lidingo IFK vs Helges
X-WR-TIMEZONE:America/New_York
BEGIN:VEVENT
UID:match-5566531@streamradar.soccer
SUMMARY:Lidingo IFK vs Helges
DTSTAMP:20260422T193759Z
DTSTART;TZID=America/New_York:20260913T094500
DTEND;TZID=America/New_York:20260913T114500
DESCRIPTION:Où regarder Lidingo IFK vs Helges en Suède - Superettan. Diff
 usion en direct et programme TV.\nhttps://streamradar.soccer/fr/match/55665
 31/lidingo-ifk-vs-helges/
URL;VALUE=URI:https://streamradar.soccer/fr/match/5566531/lidingo-ifk-vs-he
 lges/
STATUS:CONFIRMED
END:VEVENT
END:VCALENDAR
