BEGIN:VCALENDAR
VERSION:2.0
PRODID:-//StreamRadar//Match Calendar//EN
CALSCALE:GREGORIAN
METHOD:PUBLISH
X-WR-CALNAME:HK vs Grindavík
X-WR-TIMEZONE:America/New_York
BEGIN:VEVENT
UID:match-5566044@streamradar.soccer
SUMMARY:HK vs Grindavík
DTSTAMP:20260423T131252Z
DTSTART;TZID=America/New_York:20260619T151500
DTEND;TZID=America/New_York:20260619T171500
DESCRIPTION:Où regarder HK vs Grindavík en Islande - 1. deild karla. Diff
 usion en direct et programme TV.\nhttps://streamradar.soccer/fr/match/55660
 44/hk-vs-grindavik/
URL;VALUE=URI:https://streamradar.soccer/fr/match/5566044/hk-vs-grindavik/
STATUS:CONFIRMED
END:VEVENT
END:VCALENDAR
