BEGIN:VCALENDAR
VERSION:2.0
PRODID:-//StreamRadar//Match Calendar//EN
CALSCALE:GREGORIAN
METHOD:PUBLISH
X-WR-CALNAME:Quang Ninh vs Hồ Chí Minh II
X-WR-TIMEZONE:America/New_York
BEGIN:VEVENT
UID:match-5563372@streamradar.soccer
SUMMARY:Quang Ninh vs Hồ Chí Minh II
DTSTAMP:20260422T193823Z
DTSTART;TZID=America/New_York:20260606T050000
DTEND;TZID=America/New_York:20260606T070000
DESCRIPTION:Où regarder Quang Ninh vs Hồ Chí Minh II en Viêt-Nam - V.L
 eague 2. Diffusion en direct et programme TV.\nhttps://streamradar.soccer/f
 r/match/5563372/quang-ninh-vs-ho-chi-minh-ii/
URL;VALUE=URI:https://streamradar.soccer/fr/match/5563372/quang-ninh-vs-ho-
 chi-minh-ii/
STATUS:CONFIRMED
END:VEVENT
END:VCALENDAR
