BEGIN:VCALENDAR
VERSION:2.0
PRODID:-//StreamRadar//Match Calendar//EN
CALSCALE:GREGORIAN
METHOD:PUBLISH
X-WR-CALNAME:Suwon Bluewings vs Cheonan City
X-WR-TIMEZONE:America/New_York
BEGIN:VEVENT
UID:match-5563133@streamradar.soccer
SUMMARY:Suwon Bluewings vs Cheonan City
DTSTAMP:20260421T102133Z
DTSTART;TZID=America/New_York:20260525T033000
DTEND;TZID=America/New_York:20260525T053000
LOCATION:Suwon World Cup Stadium
DESCRIPTION:Où regarder Suwon Bluewings vs Cheonan City en Corée du Sud -
  K League 2. Diffusion en direct et programme TV.\nhttps://streamradar.socc
 er/fr/match/5563133/suwon-bluewings-vs-cheonan-city/
URL;VALUE=URI:https://streamradar.soccer/fr/match/5563133/suwon-bluewings-v
 s-cheonan-city/
STATUS:CONFIRMED
END:VEVENT
END:VCALENDAR
