BEGIN:VCALENDAR
VERSION:2.0
PRODID:-//StreamRadar//Match Calendar//EN
CALSCALE:GREGORIAN
METHOD:PUBLISH
X-WR-CALNAME:ASO Chlef vs USM Alger
X-WR-TIMEZONE:America/New_York
BEGIN:VEVENT
UID:match-5561755@streamradar.soccer
SUMMARY:ASO Chlef vs USM Alger
DTSTAMP:20260422T000457Z
DTSTART;TZID=America/New_York:20260405T124500
DTEND;TZID=America/New_York:20260405T144500
LOCATION:Mohamed Boumezrag Stadium
DESCRIPTION:Où regarder ASO Chlef vs USM Alger en Algérie - Ligue 1 Algé
 rie. Diffusion en direct et programme TV.\nhttps://streamradar.soccer/fr/ma
 tch/5561755/aso-chlef-vs-usm-alger/
URL;VALUE=URI:https://streamradar.soccer/fr/match/5561755/aso-chlef-vs-usm-
 alger/
STATUS:CONFIRMED
END:VEVENT
END:VCALENDAR
