BEGIN:VCALENDAR
VERSION:2.0
PRODID:-//StreamRadar//Match Calendar//EN
CALSCALE:GREGORIAN
METHOD:PUBLISH
X-WR-CALNAME:Laagri vs Tammeka
X-WR-TIMEZONE:America/New_York
BEGIN:VEVENT
UID:match-5561664@streamradar.soccer
SUMMARY:Laagri vs Tammeka
DTSTAMP:20260421T155055Z
DTSTART;TZID=America/New_York:20260906T100000
DTEND;TZID=America/New_York:20260906T120000
LOCATION:Laagri kunstmurustaadion
DESCRIPTION:Où regarder Laagri vs Tammeka en Estonie - Meistriliiga. Diffu
 sion en direct et programme TV.\nhttps://streamradar.soccer/fr/match/556166
 4/laagri-vs-tammeka/
URL;VALUE=URI:https://streamradar.soccer/fr/match/5561664/laagri-vs-tammeka
 /
STATUS:CONFIRMED
END:VEVENT
END:VCALENDAR
