BEGIN:VCALENDAR
VERSION:2.0
PRODID:-//StreamRadar//Match Calendar//EN
CALSCALE:GREGORIAN
METHOD:PUBLISH
X-WR-CALNAME:Excursionistas vs Ituzaingó
X-WR-TIMEZONE:America/New_York
BEGIN:VEVENT
UID:match-5560737@streamradar.soccer
SUMMARY:Excursionistas vs Ituzaingó
DTSTAMP:20260421T114502Z
DTSTART;TZID=America/New_York:20260905T160000
DTEND;TZID=America/New_York:20260905T180000
LOCATION:Excursionistas Stadium
DESCRIPTION:Où regarder Excursionistas vs Ituzaingó en Argentine - Primer
 a B Metropolitana. Diffusion en direct et programme TV.\nhttps://streamrada
 r.soccer/fr/match/5560737/excursionistas-vs-ituzaingo/
URL;VALUE=URI:https://streamradar.soccer/fr/match/5560737/excursionistas-vs
 -ituzaingo/
STATUS:CONFIRMED
END:VEVENT
END:VCALENDAR
