BEGIN:VCALENDAR
VERSION:2.0
PRODID:-//StreamRadar//Match Calendar//EN
CALSCALE:GREGORIAN
METHOD:PUBLISH
X-WR-CALNAME:Shanghai Port vs Beijing Guoan
X-WR-TIMEZONE:America/New_York
BEGIN:VEVENT
UID:match-5560395@streamradar.soccer
SUMMARY:Shanghai Port vs Beijing Guoan
DTSTAMP:20260421T110344Z
DTSTART;TZID=America/New_York:20260905T073500
DTEND;TZID=America/New_York:20260905T093500
LOCATION:Pudong Football Stadium
DESCRIPTION:Où regarder Shanghai Port vs Beijing Guoan en RP Chine - Super
  League Chinoise. Diffusion en direct et programme TV.\nhttps://streamradar
 .soccer/fr/match/5560395/shanghai-port-vs-beijing-guoan/
URL;VALUE=URI:https://streamradar.soccer/fr/match/5560395/shanghai-port-vs-
 beijing-guoan/
STATUS:CONFIRMED
END:VEVENT
END:VCALENDAR
