BEGIN:VCALENDAR
VERSION:2.0
PRODID:-//StreamRadar//Match Calendar//EN
CALSCALE:GREGORIAN
METHOD:PUBLISH
X-WR-CALNAME:Shanghai Shenhua vs Hangzhou
X-WR-TIMEZONE:America/New_York
BEGIN:VEVENT
UID:match-5560328@streamradar.soccer
SUMMARY:Shanghai Shenhua vs Hangzhou
DTSTAMP:20260421T124716Z
DTSTART;TZID=America/New_York:20260705T073500
DTEND;TZID=America/New_York:20260705T093500
LOCATION:Shanghai Stadium
DESCRIPTION:Où regarder Shanghai Shenhua vs Hangzhou en RP Chine - Super L
 eague Chinoise. Diffusion en direct et programme TV.\nhttps://streamradar.s
 occer/fr/match/5560328/shanghai-shenhua-vs-hangzhou/
URL;VALUE=URI:https://streamradar.soccer/fr/match/5560328/shanghai-shenhua-
 vs-hangzhou/
STATUS:CONFIRMED
END:VEVENT
END:VCALENDAR
