BEGIN:VCALENDAR
VERSION:2.0
PRODID:-//StreamRadar//Match Calendar//EN
CALSCALE:GREGORIAN
METHOD:PUBLISH
X-WR-CALNAME:Estudiantes Caseros vs San Miguel
X-WR-TIMEZONE:America/New_York
BEGIN:VEVENT
UID:match-5560112@streamradar.soccer
SUMMARY:Estudiantes Caseros vs San Miguel
DTSTAMP:20260422T065722Z
DTSTART;TZID=America/New_York:20260919T160000
DTEND;TZID=America/New_York:20260919T180000
LOCATION:Estadio Ciudad de Caseros
DESCRIPTION:Où regarder Estudiantes Caseros vs San Miguel en Argentine - P
 rimera Nacional. Diffusion en direct et programme TV.\nhttps://streamradar.
 soccer/fr/match/5560112/estudiantes-caseros-vs-san-miguel/
URL;VALUE=URI:https://streamradar.soccer/fr/match/5560112/estudiantes-caser
 os-vs-san-miguel/
STATUS:CONFIRMED
END:VEVENT
END:VCALENDAR
