BEGIN:VCALENDAR
VERSION:2.0
PRODID:-//StreamRadar//Match Calendar//EN
CALSCALE:GREGORIAN
METHOD:PUBLISH
X-WR-CALNAME:Athletic Club vs Botafogo SP
X-WR-TIMEZONE:America/New_York
BEGIN:VEVENT
UID:match-5559562@streamradar.soccer
SUMMARY:Athletic Club vs Botafogo SP
DTSTAMP:20260422T052922Z
DTSTART;TZID=America/New_York:20260919T150000
DTEND;TZID=America/New_York:20260919T170000
DESCRIPTION:Où regarder Athletic Club vs Botafogo SP en Brésil - Serie B.
  Diffusion en direct et programme TV.\nhttps://streamradar.soccer/fr/match/
 5559562/athletic-club-vs-botafogo-sp/
URL;VALUE=URI:https://streamradar.soccer/fr/match/5559562/athletic-club-vs-
 botafogo-sp/
STATUS:CONFIRMED
END:VEVENT
END:VCALENDAR
