BEGIN:VCALENDAR
VERSION:2.0
PRODID:-//StreamRadar//Match Calendar//EN
CALSCALE:GREGORIAN
METHOD:PUBLISH
X-WR-CALNAME:Operário PR vs CRB
X-WR-TIMEZONE:America/New_York
BEGIN:VEVENT
UID:match-5559548@streamradar.soccer
SUMMARY:Operário PR vs CRB
DTSTAMP:20260421T155021Z
DTSTART;TZID=America/New_York:20260909T150000
DTEND;TZID=America/New_York:20260909T170000
DESCRIPTION:Où regarder Operário PR vs CRB en Brésil - Serie B. Diffusio
 n en direct et programme TV.\nhttps://streamradar.soccer/fr/match/5559548/o
 perario-pr-vs-crb/
URL;VALUE=URI:https://streamradar.soccer/fr/match/5559548/operario-pr-vs-cr
 b/
STATUS:CONFIRMED
END:VEVENT
END:VCALENDAR
