BEGIN:VCALENDAR
VERSION:2.0
PRODID:-//StreamRadar//Match Calendar//EN
CALSCALE:GREGORIAN
METHOD:PUBLISH
X-WR-CALNAME:JS Omrane vs Ben Guerdane
X-WR-TIMEZONE:America/New_York
BEGIN:VEVENT
UID:match-5558118@streamradar.soccer
SUMMARY:JS Omrane vs Ben Guerdane
DTSTAMP:20260423T133524Z
DTSTART;TZID=America/New_York:20260227T070000
DTEND;TZID=America/New_York:20260227T090000
LOCATION:Stade Chedly Zouiten
DESCRIPTION:Où regarder JS Omrane vs Ben Guerdane en Tunisie - Ligue 1 tun
 isienne. Diffusion en direct et programme TV.\nhttps://streamradar.soccer/f
 r/match/5558118/js-omrane-vs-ben-guerdane/
URL;VALUE=URI:https://streamradar.soccer/fr/match/5558118/js-omrane-vs-ben-
 guerdane/
STATUS:CONFIRMED
END:VEVENT
END:VCALENDAR
