BEGIN:VCALENDAR
VERSION:2.0
PRODID:-//StreamRadar//Match Calendar//EN
CALSCALE:GREGORIAN
METHOD:PUBLISH
X-WR-CALNAME:Petrzalka B vs Belusa
X-WR-TIMEZONE:America/New_York
BEGIN:VEVENT
UID:match-5557318@streamradar.soccer
SUMMARY:Petrzalka B vs Belusa
DTSTAMP:20260423T012352Z
DTSTART;TZID=America/New_York:20260315T120000
DTEND;TZID=America/New_York:20260315T140000
DESCRIPTION:Où regarder Petrzalka B vs Belusa en Slovaquie - 3. Futbalová
  Liga. Diffusion en direct et programme TV.\nhttps://streamradar.soccer/fr/
 match/5557318/petrzalka-b-vs-belusa/
URL;VALUE=URI:https://streamradar.soccer/fr/match/5557318/petrzalka-b-vs-be
 lusa/
STATUS:CONFIRMED
END:VEVENT
END:VCALENDAR
